Package: BioGA Version: 1.4.0 Command: /Library/Frameworks/R.framework/Resources/bin/R CMD INSTALL BioGA StartedAt: 2025-11-10 15:31:28 -0500 (Mon, 10 Nov 2025) EndedAt: 2025-11-10 15:31:44 -0500 (Mon, 10 Nov 2025) EllapsedTime: 15.4 seconds RetCode: 0 Status: OK