Package: BioGA Version: 1.4.0 Command: /Library/Frameworks/R.framework/Resources/bin/R CMD build --keep-empty-dirs --no-resave-data BioGA StartedAt: 2025-11-10 15:46:20 -0500 (Mon, 10 Nov 2025) EndedAt: 2025-11-10 15:46:40 -0500 (Mon, 10 Nov 2025) EllapsedTime: 20.2 seconds RetCode: 0 Status: OK PackageFile: BioGA_1.4.0.tar.gz PackageFileSize: 310.7 KiB