Package: BioGA Version: 1.4.0 Command: rm -rf BioGA.buildbin-libdir && mkdir BioGA.buildbin-libdir && /Users/biocbuild/BBS/utils/build-universal.sh BioGA_1.4.0.tar.gz /Library/Frameworks/R.framework/Resources/bin/R BioGA.buildbin-libdir StartedAt: 2025-11-10 23:12:51 -0500 (Mon, 10 Nov 2025) EndedAt: 2025-11-10 23:13:09 -0500 (Mon, 10 Nov 2025) EllapsedTime: 17.4 seconds RetCode: 0 Status: OK PackageFile: BioGA_1.4.0.tgz PackageFileSize: 357.3 KiB