Package: BioCartaImage Version: 1.8.0 Command: /Library/Frameworks/R.framework/Resources/bin/R CMD INSTALL BioCartaImage StartedAt: 2025-11-10 15:01:46 -0500 (Mon, 10 Nov 2025) EndedAt: 2025-11-10 15:01:56 -0500 (Mon, 10 Nov 2025) EllapsedTime: 10.1 seconds RetCode: 0 Status: OK