Package: BioCartaImage Version: 1.8.0 Command: /Library/Frameworks/R.framework/Resources/bin/R CMD build --keep-empty-dirs --no-resave-data BioCartaImage StartedAt: 2025-11-10 15:45:28 -0500 (Mon, 10 Nov 2025) EndedAt: 2025-11-10 15:45:34 -0500 (Mon, 10 Nov 2025) EllapsedTime: 6.1 seconds RetCode: 0 Status: OK PackageFile: BioCartaImage_1.8.0.tar.gz PackageFileSize: 3.628 MiB