Package: BindingSiteFinder Version: 2.8.0 Command: /home/biocbuild/bbs-3.22-bioc/R/bin/R CMD INSTALL BindingSiteFinder StartedAt: 2025-11-11 15:44:37 -0500 (Tue, 11 Nov 2025) EndedAt: 2025-11-11 15:45:22 -0500 (Tue, 11 Nov 2025) EllapsedTime: 45.7 seconds RetCode: 0 Status: OK