Package: BiRewire Version: 3.42.0 Command: /home/biocbuild/bbs-3.22-bioc/R/bin/R CMD INSTALL BiRewire StartedAt: 2025-11-13 15:05:46 -0500 (Thu, 13 Nov 2025) EndedAt: 2025-11-13 15:06:01 -0500 (Thu, 13 Nov 2025) EllapsedTime: 15.0 seconds RetCode: 0 Status: OK