Package: BiFET Version: 1.30.0 Command: /home/biocbuild/bbs-3.22-bioc/R/bin/R CMD INSTALL BiFET StartedAt: 2025-11-20 16:14:01 -0500 (Thu, 20 Nov 2025) EndedAt: 2025-11-20 16:14:09 -0500 (Thu, 20 Nov 2025) EllapsedTime: 8.1 seconds RetCode: 0 Status: OK