Package: BgeeDB Version: 2.36.0 Command: /home/biocbuild/bbs-3.22-bioc/R/bin/R CMD INSTALL BgeeDB StartedAt: 2025-11-13 15:39:40 -0500 (Thu, 13 Nov 2025) EndedAt: 2025-11-13 15:40:20 -0500 (Thu, 13 Nov 2025) EllapsedTime: 39.7 seconds RetCode: 0 Status: OK