Package: BeadDataPackR Version: 1.61.0 Command: /home/biocbuild/bbs-3.22-bioc/R/bin/R CMD INSTALL BeadDataPackR StartedAt: 2025-10-24 15:16:28 -0400 (Fri, 24 Oct 2025) EndedAt: 2025-10-24 15:17:11 -0400 (Fri, 24 Oct 2025) EllapsedTime: 43.2 seconds RetCode: 0 Status: OK