Package: BeadDataPackR Version: 1.62.0 Command: /Library/Frameworks/R.framework/Resources/bin/R CMD INSTALL BeadDataPackR StartedAt: 2025-11-10 15:03:28 -0500 (Mon, 10 Nov 2025) EndedAt: 2025-11-10 15:03:44 -0500 (Mon, 10 Nov 2025) EllapsedTime: 16.3 seconds RetCode: 0 Status: OK