Package: BeadDataPackR Version: 1.62.0 Command: rm -rf BeadDataPackR.buildbin-libdir && mkdir BeadDataPackR.buildbin-libdir && /Users/biocbuild/BBS/utils/build-universal.sh BeadDataPackR_1.62.0.tar.gz /Library/Frameworks/R.framework/Resources/bin/R BeadDataPackR.buildbin-libdir StartedAt: 2025-11-10 23:12:16 -0500 (Mon, 10 Nov 2025) EndedAt: 2025-11-10 23:12:19 -0500 (Mon, 10 Nov 2025) EllapsedTime: 2.0 seconds RetCode: 0 Status: OK PackageFile: BeadDataPackR_1.62.0.tgz PackageFileSize: 284.5 KiB