Package: BayesSpace Version: 1.20.0 Command: /home/biocbuild/bbs-3.22-bioc/R/bin/R CMD INSTALL BayesSpace StartedAt: 2025-11-17 18:14:05 -0500 (Mon, 17 Nov 2025) EndedAt: 2025-11-17 18:15:20 -0500 (Mon, 17 Nov 2025) EllapsedTime: 75.2 seconds RetCode: 0 Status: OK