Package: BayesSpace Version: 1.20.0 Command: /home/biocbuild/bbs-3.22-bioc/R/bin/R CMD build --keep-empty-dirs --no-resave-data --md5 BayesSpace StartedAt: 2025-11-17 19:36:30 -0500 (Mon, 17 Nov 2025) EndedAt: 2025-11-17 19:39:00 -0500 (Mon, 17 Nov 2025) EllapsedTime: 150.0 seconds RetCode: 0 Status: OK PackageFile: BayesSpace_1.20.0.tar.gz PackageFileSize: 3.074 MiB