Package: BatchSVG Version: 1.2.0 Command: /Library/Frameworks/R.framework/Resources/bin/R CMD INSTALL BatchSVG StartedAt: 2025-11-10 15:28:52 -0500 (Mon, 10 Nov 2025) EndedAt: 2025-11-10 15:29:03 -0500 (Mon, 10 Nov 2025) EllapsedTime: 10.5 seconds RetCode: 0 Status: OK