Package: BatchSVG Version: 1.2.0 Command: /Library/Frameworks/R.framework/Resources/bin/R CMD build --keep-empty-dirs --no-resave-data BatchSVG StartedAt: 2025-11-10 15:42:39 -0500 (Mon, 10 Nov 2025) EndedAt: 2025-11-10 15:43:47 -0500 (Mon, 10 Nov 2025) EllapsedTime: 67.7 seconds RetCode: 0 Status: OK PackageFile: BatchSVG_1.2.0.tar.gz PackageFileSize: 1.698 MiB