Package: BasicSTARRseq Version: 1.38.0 Command: /Library/Frameworks/R.framework/Resources/bin/R CMD INSTALL BasicSTARRseq StartedAt: 2025-11-03 15:32:47 -0500 (Mon, 03 Nov 2025) EndedAt: 2025-11-03 15:33:23 -0500 (Mon, 03 Nov 2025) EllapsedTime: 36.0 seconds RetCode: 0 Status: OK