Package: BasicSTARRseq Version: 1.38.0 Command: /Library/Frameworks/R.framework/Resources/bin/R CMD build --keep-empty-dirs --no-resave-data BasicSTARRseq StartedAt: 2025-11-03 16:08:16 -0500 (Mon, 03 Nov 2025) EndedAt: 2025-11-03 16:09:04 -0500 (Mon, 03 Nov 2025) EllapsedTime: 47.9 seconds RetCode: 0 Status: OK PackageFile: BasicSTARRseq_1.38.0.tar.gz PackageFileSize: 551.6 KiB