Package: BasicSTARRseq Version: 1.38.0 Command: /Library/Frameworks/R.framework/Resources/bin/R CMD INSTALL BasicSTARRseq StartedAt: 2025-10-29 21:37:43 -0400 (Wed, 29 Oct 2025) EndedAt: 2025-10-29 21:37:54 -0400 (Wed, 29 Oct 2025) EllapsedTime: 10.7 seconds RetCode: 0 Status: OK