Package: Basic4Cseq Version: 1.46.0 Command: /Library/Frameworks/R.framework/Resources/bin/R CMD INSTALL Basic4Cseq StartedAt: 2025-11-10 15:18:27 -0500 (Mon, 10 Nov 2025) EndedAt: 2025-11-10 15:18:42 -0500 (Mon, 10 Nov 2025) EllapsedTime: 14.2 seconds RetCode: 0 Status: OK