Package: Basic4Cseq Version: 1.46.0 Command: /Library/Frameworks/R.framework/Resources/bin/R CMD build --keep-empty-dirs --no-resave-data Basic4Cseq StartedAt: 2025-11-10 15:41:50 -0500 (Mon, 10 Nov 2025) EndedAt: 2025-11-10 15:42:15 -0500 (Mon, 10 Nov 2025) EllapsedTime: 25.2 seconds RetCode: 0 Status: OK PackageFile: Basic4Cseq_1.46.0.tar.gz PackageFileSize: 384.5 KiB