Package: BaseSpaceR Version: 1.54.0 Command: /Library/Frameworks/R.framework/Resources/bin/R CMD INSTALL BaseSpaceR StartedAt: 2025-11-10 15:02:13 -0500 (Mon, 10 Nov 2025) EndedAt: 2025-11-10 15:02:20 -0500 (Mon, 10 Nov 2025) EllapsedTime: 6.9 seconds RetCode: 0 Status: OK