Package: BaseSpaceR Version: 1.54.0 Command: /Library/Frameworks/R.framework/Resources/bin/R CMD build --keep-empty-dirs --no-resave-data BaseSpaceR StartedAt: 2025-11-10 15:41:47 -0500 (Mon, 10 Nov 2025) EndedAt: 2025-11-10 15:41:56 -0500 (Mon, 10 Nov 2025) EllapsedTime: 9.1 seconds RetCode: 0 Status: OK PackageFile: BaseSpaceR_1.54.0.tar.gz PackageFileSize: 581 KiB