Package: BaseSpaceR Version: 1.54.0 Command: rm -rf BaseSpaceR.buildbin-libdir && mkdir BaseSpaceR.buildbin-libdir && /Users/biocbuild/BBS/utils/build-universal.sh BaseSpaceR_1.54.0.tar.gz /Library/Frameworks/R.framework/Resources/bin/R BaseSpaceR.buildbin-libdir StartedAt: 2025-11-10 23:11:54 -0500 (Mon, 10 Nov 2025) EndedAt: 2025-11-10 23:11:57 -0500 (Mon, 10 Nov 2025) EllapsedTime: 3.1 seconds RetCode: 0 Status: OK PackageFile: BaseSpaceR_1.54.0.tgz PackageFileSize: 751.7 KiB