Package: BadRegionFinder Version: 1.38.0 Command: /home/biocbuild/bbs-3.22-bioc/R/bin/R CMD INSTALL BadRegionFinder StartedAt: 2025-11-10 15:51:09 -0500 (Mon, 10 Nov 2025) EndedAt: 2025-11-10 15:51:50 -0500 (Mon, 10 Nov 2025) EllapsedTime: 41.2 seconds RetCode: 0 Status: OK