Package: BaalChIP Version: 1.36.0 Command: /home/biocbuild/bbs-3.22-bioc/R/bin/R CMD build --keep-empty-dirs --no-resave-data --md5 BaalChIP StartedAt: 2025-11-02 16:32:45 -0500 (Sun, 02 Nov 2025) EndedAt: 2025-11-02 16:34:53 -0500 (Sun, 02 Nov 2025) EllapsedTime: 127.1 seconds RetCode: 0 Status: OK PackageFile: BaalChIP_1.36.0.tar.gz PackageFileSize: 45.24 MiB