Package: BUSseq Version: 1.16.0 Command: /home/biocbuild/bbs-3.22-bioc/R/bin/R CMD build --keep-empty-dirs --no-resave-data --md5 BUSseq StartedAt: 2025-11-17 19:53:36 -0500 (Mon, 17 Nov 2025) EndedAt: 2025-11-17 19:54:40 -0500 (Mon, 17 Nov 2025) EllapsedTime: 64.0 seconds RetCode: 0 Status: OK PackageFile: BUSseq_1.16.0.tar.gz PackageFileSize: 1012 KiB