Package: BUScorrect Version: 1.28.0 Command: /home/biocbuild/bbs-3.22-bioc/R/bin/R CMD INSTALL BUScorrect StartedAt: 2025-11-16 15:19:06 -0500 (Sun, 16 Nov 2025) EndedAt: 2025-11-16 15:19:25 -0500 (Sun, 16 Nov 2025) EllapsedTime: 19.0 seconds RetCode: 0 Status: OK