Package: BREW3R.r Version: 1.6.0 Command: /home/biocbuild/bbs-3.22-bioc/R/bin/R CMD INSTALL BREW3R.r StartedAt: 2025-11-02 15:24:29 -0500 (Sun, 02 Nov 2025) EndedAt: 2025-11-02 15:24:37 -0500 (Sun, 02 Nov 2025) EllapsedTime: 8.0 seconds RetCode: 0 Status: OK