Package: BOBaFIT Version: 1.14.0 Command: /home/biocbuild/bbs-3.22-bioc/R/bin/R CMD INSTALL BOBaFIT StartedAt: 2025-11-17 17:59:08 -0500 (Mon, 17 Nov 2025) EndedAt: 2025-11-17 18:00:04 -0500 (Mon, 17 Nov 2025) EllapsedTime: 55.6 seconds RetCode: 0 Status: OK