Package: BOBaFIT Version: 1.14.0 Command: /home/biocbuild/bbs-3.22-bioc/R/bin/R CMD build --keep-empty-dirs --no-resave-data --md5 BOBaFIT StartedAt: 2025-11-16 16:39:27 -0500 (Sun, 16 Nov 2025) EndedAt: 2025-11-16 16:41:04 -0500 (Sun, 16 Nov 2025) EllapsedTime: 97.1 seconds RetCode: 0 Status: OK PackageFile: BOBaFIT_1.14.0.tar.gz PackageFileSize: 2.499 MiB