Package: BLMA Version: 1.33.0 Command: /home/biocbuild/bbs-3.22-bioc/R/bin/R CMD INSTALL BLMA StartedAt: 2025-10-24 15:40:41 -0400 (Fri, 24 Oct 2025) EndedAt: 2025-10-24 15:41:01 -0400 (Fri, 24 Oct 2025) EllapsedTime: 19.6 seconds RetCode: 0 Status: OK