Package: BG2 Version: 1.10.0 Command: /home/biocbuild/bbs-3.22-bioc/R/bin/R CMD INSTALL BG2 StartedAt: 2025-11-16 15:10:46 -0500 (Sun, 16 Nov 2025) EndedAt: 2025-11-16 15:10:57 -0500 (Sun, 16 Nov 2025) EllapsedTime: 10.9 seconds RetCode: 0 Status: OK