Package: BG2 Version: 1.10.0 Command: /home/biocbuild/bbs-3.22-bioc/R/bin/R CMD build --keep-empty-dirs --no-resave-data --md5 BG2 StartedAt: 2025-11-16 16:32:04 -0500 (Sun, 16 Nov 2025) EndedAt: 2025-11-16 16:41:26 -0500 (Sun, 16 Nov 2025) EllapsedTime: 561.6 seconds RetCode: 0 Status: OK PackageFile: BG2_1.10.0.tar.gz PackageFileSize: 1.131 MiB