Package: BERT Version: 1.6.0 Command: /home/biocbuild/bbs-3.22-bioc/R/bin/R CMD build --keep-empty-dirs --no-resave-data --md5 BERT StartedAt: 2025-11-16 16:31:26 -0500 (Sun, 16 Nov 2025) EndedAt: 2025-11-16 16:31:50 -0500 (Sun, 16 Nov 2025) EllapsedTime: 24.0 seconds RetCode: 0 Status: OK PackageFile: BERT_1.6.0.tar.gz PackageFileSize: 260.3 KiB