Package: BEAT Version: 1.48.0 Command: /home/biocbuild/bbs-3.22-bioc/R/bin/R CMD INSTALL BEAT StartedAt: 2025-11-11 15:56:00 -0500 (Tue, 11 Nov 2025) EndedAt: 2025-11-11 15:56:40 -0500 (Tue, 11 Nov 2025) EllapsedTime: 40.1 seconds RetCode: 0 Status: OK