Package: BBCAnalyzer Version: 1.40.0 Command: /Library/Frameworks/R.framework/Resources/bin/R CMD build --keep-empty-dirs --no-resave-data BBCAnalyzer StartedAt: 2025-11-10 15:43:34 -0500 (Mon, 10 Nov 2025) EndedAt: 2025-11-10 15:45:41 -0500 (Mon, 10 Nov 2025) EllapsedTime: 127.4 seconds RetCode: 0 Status: OK PackageFile: BBCAnalyzer_1.40.0.tar.gz PackageFileSize: 2.202 MiB