Package: BBCAnalyzer Version: 1.40.0 Command: rm -rf BBCAnalyzer.buildbin-libdir && mkdir BBCAnalyzer.buildbin-libdir && /Users/biocbuild/BBS/utils/build-universal.sh BBCAnalyzer_1.40.0.tar.gz /Library/Frameworks/R.framework/Resources/bin/R BBCAnalyzer.buildbin-libdir StartedAt: 2025-11-10 23:12:08 -0500 (Mon, 10 Nov 2025) EndedAt: 2025-11-10 23:12:28 -0500 (Mon, 10 Nov 2025) EllapsedTime: 19.4 seconds RetCode: 0 Status: OK PackageFile: BBCAnalyzer_1.40.0.tgz PackageFileSize: 2.059 MiB