Package: BASiCStan Version: 1.12.0 Command: /home/biocbuild/bbs-3.22-bioc/R/bin/R CMD INSTALL BASiCStan StartedAt: 2025-10-31 16:06:20 -0400 (Fri, 31 Oct 2025) EndedAt: 2025-10-31 16:10:57 -0400 (Fri, 31 Oct 2025) EllapsedTime: 276.5 seconds RetCode: 0 Status: OK