Package: BASiCStan Version: 1.12.0 Command: /home/biocbuild/bbs-3.22-bioc/R/bin/R CMD build --keep-empty-dirs --no-resave-data --md5 BASiCStan StartedAt: 2025-10-31 16:30:48 -0400 (Fri, 31 Oct 2025) EndedAt: 2025-10-31 16:35:51 -0400 (Fri, 31 Oct 2025) EllapsedTime: 303.2 seconds RetCode: 0 Status: OK PackageFile: BASiCStan_1.12.0.tar.gz PackageFileSize: 65.5 KiB