Package: BASiCS Version: 2.21.1 Command: /home/biocbuild/bbs-3.22-bioc/R/bin/R CMD build --keep-empty-dirs --no-resave-data --md5 BASiCS StartedAt: 2025-10-24 16:30:15 -0400 (Fri, 24 Oct 2025) EndedAt: 2025-10-24 16:32:11 -0400 (Fri, 24 Oct 2025) EllapsedTime: 116.1 seconds RetCode: 0 Status: OK PackageFile: BASiCS_2.21.1.tar.gz PackageFileSize: 3.204 MiB