Package: BASiCS Version: 2.22.0 Command: /Library/Frameworks/R.framework/Resources/bin/R CMD INSTALL BASiCS StartedAt: 2025-11-10 15:29:10 -0500 (Mon, 10 Nov 2025) EndedAt: 2025-11-10 15:29:35 -0500 (Mon, 10 Nov 2025) EllapsedTime: 24.7 seconds RetCode: 0 Status: OK