Package: BASiCS Version: 2.22.0 Command: /Library/Frameworks/R.framework/Resources/bin/R CMD build --keep-empty-dirs --no-resave-data BASiCS StartedAt: 2025-11-10 15:41:56 -0500 (Mon, 10 Nov 2025) EndedAt: 2025-11-10 15:42:37 -0500 (Mon, 10 Nov 2025) EllapsedTime: 41.4 seconds RetCode: 0 Status: OK PackageFile: BASiCS_2.22.0.tar.gz PackageFileSize: 3.303 MiB