Package: BASiCS Version: 2.22.0 Command: rm -rf BASiCS.buildbin-libdir && mkdir BASiCS.buildbin-libdir && /Users/biocbuild/BBS/utils/build-universal.sh BASiCS_2.22.0.tar.gz /Library/Frameworks/R.framework/Resources/bin/R BASiCS.buildbin-libdir StartedAt: 2025-11-10 23:11:55 -0500 (Mon, 10 Nov 2025) EndedAt: 2025-11-10 23:12:22 -0500 (Mon, 10 Nov 2025) EllapsedTime: 26.5 seconds RetCode: 0 Status: OK PackageFile: BASiCS_2.22.0.tgz PackageFileSize: 3.875 MiB