Package: BAGS Version: 2.50.0 Command: /home/biocbuild/bbs-3.22-bioc/R/bin/R CMD INSTALL BAGS StartedAt: 2025-11-17 17:11:21 -0500 (Mon, 17 Nov 2025) EndedAt: 2025-11-17 17:11:24 -0500 (Mon, 17 Nov 2025) EllapsedTime: 3.1 seconds RetCode: 0 Status: OK