Package: AssessORF Version: 1.28.0 Command: /Library/Frameworks/R.framework/Resources/bin/R CMD INSTALL AssessORF StartedAt: 2025-11-10 15:19:30 -0500 (Mon, 10 Nov 2025) EndedAt: 2025-11-10 15:19:35 -0500 (Mon, 10 Nov 2025) EllapsedTime: 5.3 seconds RetCode: 0 Status: OK