Package: AssessORF Version: 1.28.0 Command: /Library/Frameworks/R.framework/Resources/bin/R CMD build --keep-empty-dirs --no-resave-data AssessORF StartedAt: 2025-11-10 15:38:56 -0500 (Mon, 10 Nov 2025) EndedAt: 2025-11-10 15:39:13 -0500 (Mon, 10 Nov 2025) EllapsedTime: 17.2 seconds RetCode: 0 Status: OK PackageFile: AssessORF_1.28.0.tar.gz PackageFileSize: 4.703 MiB