Package: AssessORF Version: 1.28.0 Command: rm -rf AssessORF.buildbin-libdir && mkdir AssessORF.buildbin-libdir && /Users/biocbuild/BBS/utils/build-universal.sh AssessORF_1.28.0.tar.gz /Library/Frameworks/R.framework/Resources/bin/R AssessORF.buildbin-libdir StartedAt: 2025-11-10 23:11:28 -0500 (Mon, 10 Nov 2025) EndedAt: 2025-11-10 23:11:34 -0500 (Mon, 10 Nov 2025) EllapsedTime: 6.1 seconds RetCode: 0 Status: OK PackageFile: AssessORF_1.28.0.tgz PackageFileSize: 4.798 MiB