Package: ArrayExpress Version: 1.70.0 Command: /Library/Frameworks/R.framework/Resources/bin/R CMD INSTALL ArrayExpress StartedAt: 2025-11-17 17:30:22 -0500 (Mon, 17 Nov 2025) EndedAt: 2025-11-17 17:31:19 -0500 (Mon, 17 Nov 2025) EllapsedTime: 57.1 seconds RetCode: 0 Status: OK