Package: ArrayExpress Version: 1.70.0 Command: rm -rf ArrayExpress.buildbin-libdir && mkdir ArrayExpress.buildbin-libdir && /Users/biocbuild/BBS/utils/build-universal.sh ArrayExpress_1.70.0.tar.gz /Library/Frameworks/R.framework/Resources/bin/R ArrayExpress.buildbin-libdir StartedAt: 2025-11-18 17:10:19 -0500 (Tue, 18 Nov 2025) EndedAt: 2025-11-18 17:11:19 -0500 (Tue, 18 Nov 2025) EllapsedTime: 59.8 seconds RetCode: 0 Status: OK PackageFile: ArrayExpress_1.70.0.tgz PackageFileSize: 183.5 KiB